Workbook

Sheet II.von 2025 phan bs theo chế cũ
J2: Biểu số II
A3: BIỂU PHÂN BỔ KINH PHÍ THỰC HIỆN CÁC CHƯƠNG TRÌNH MỤC TIÊU QUỐC GIA VỐN CHUYỂN NGUỒN NĂM 2025 SANG NĂM 2026
A4: (Kèm theo Tờ trình số /TTr-UBND ngày tháng năm 2026 của UBND xã Chợ Rã
A6: STT | B6: Tên dự án, nội dung | D6: Kinh phí đã phân bổ thực hiện giai đoạn 2021-2025 | G6: Điều chỉnh tăng (phân bổ bổ sung đợt này) | I6: Tổng cộng số sau điều chỉnh | J6: Các nội dung, dự án thực hiện của chương trình giai đoạn 2021-2025 (Nội dung, nhiệm vụ dở dang chưa hoàn thành)
C7: Kinh phí được phân bổ tại Kế hoạch số 75 | D7: Tổng cộng | E7: NSTW | F7: NSĐP | G7: NSTW | H7: NSĐP | J7: NSTW | K7: NSĐP
A8: A | B8: B | D8: 1=2+3 | E8: 2 | F8: 3 | G8: 4 | I8: 5=6+7 | J8: 6 | K8: 7
B9: CT MTQG phát triển KTXH trong vùng ĐBDTTS&MN | D9: =D10 -> 200000000 | E9: =E10 -> 200000000 | F9: =F10 -> 0 | G9: =G10 -> 0 | H9: =H10 -> 0 | I9: =I10 -> 200000000 | J9: =J10 -> 200000000
A10: I | B10: Nội dung số 01- Dự án 4: | D10: =D11 -> 200000000 | E10: =E11 -> 200000000 | F10: =F11 -> 0 | G10: =G11 -> 0 | H10: =H11 -> 0 | I10: =I11 -> 200000000 | J10: =J11 -> 200000000
A11: 1 | B11: Văn phòng HĐND và UBND xã | D11: =D12 -> 200000000 | E11: =E12 -> 200000000 | F11: =F12 -> 0 | G11: =G12 -> 0 | I11: =I12 -> 200000000 | J11: =J12 -> 200000000 | K11: =K12 -> 0
A12: - | B12: Duy tu, bảo dưỡng đường liên thôn Nà Mặn- Bản Pục - Khuổi Mòn, xã Thượng Giáo | D12: =E12+F12 -> 200000000 | E12: 200000000 | G12: 0 | I12: =J12+K12 -> 200000000 | J12: =E12+G12 -> 200000000 | K12: =F12+H12 -> 0
B13: TỔNG CỘNG | D13: =D11 -> 200000000 | E13: =E11 -> 200000000 | F13: =F11 -> 0 | G13: =G11 -> 0 | H13: =H11 -> 0 | I13: =I11 -> 200000000 | J13: =J11 -> 200000000 | K13: =K11 -> 0
L14: =G13+'III 2025 phan theo co che moi N'!R44 -> 3530925750 | M14: 1036800000 | N14: =L14+M14 -> 4567725750
L16: =I13+'von 2025 giai ngan'!R43 -> 3460925750 | M16: ='III 2025 phan theo co che moi N'!R44+'II.von 2025 phan bs theo chế cũ'!G13 -> 3530925750
L17: ='von 2025 giai ngan'!D43 -> 3777503008
B18: Chương trình MTQG PTKT-XH vùng đồng bào dân tộc thiểu số và miềm núi vốn (SN), năm 2023, nguồn TW(Duy tu, bảo dưỡng đường liên thôn Nà Mặn- Bản Pục - Khuổi Mòn, xã Thượng Giáo) | L18: =L17-L16 -> 316577258 | M18: ='von 2025 giai ngan'!R43 -> 3260925750
L19: ='von 2025 giai ngan'!I26+'von 2025 giai ngan'!I27 -> 46577258 | M19: =M16-M18 -> 270000000
L20: =L18-L19 -> 270000000

Sheet dieu chinh
S1: Biểu số 03
Z2: Biểu số: 02
A3: BIỂU ĐIỀU CHỈNH PHÂN BỔ KINH PHÍ THỰC HIỆN CÁC CHƯƠNG TRÌNH MỤC TIÊU QUỐC GIA VỐN CHUYỂN NGUỒN NĂM 2025 SANG NĂM 2026
A4: (Kèm theo Quyết định số 1524 /QĐ-UBND ngày 28 tháng 9 tháng 2026 của Ủy ban nhân dân xã Chợ Rã)
Z5: Đơn vị: đồng
A6: STT | B6: Chương trình MTQG giai đoạn 2021-2025 (vốn chuyển nguồn từ các năm trước chuyển sang năm 2026) | G6: Điều chỉnh, tăng, giảm | H6: Tổng cộng | I6: Trong đó | K6: Các nội dung, dự án thực hiện của chương trình giai đoạn 2021-2025 (Nội dung, nhiệm vụ dở dang chưa hoàn thành) | O6: STT | P6: Các nội dung, dự án chuyển sang thực hiện giai đoạn 2026-2030 tại Nghị quyết số: 34/NQ-HĐND ngày 10/8/2026 của HĐND xã Chợ Rã | U6: Điều chỉnh tăng (+), giảm (-) | X6: Các nội dung, dự án chuyển sang thực hiện giai đoạn 2026-2030 sau điều chỉnh
B7: Tên dự án, nội dung | D7: Kinh phí | I7: NSTW | J7: NSĐP | K7: Tên dự án, nội dung | L7: Kinh phí | P7: Tên đơn vị, hợp phần | Q7: Nội dung/nội dung thành phần | R7: Kinh phí | U7: Kinh phí | X7: Tên đơn vị, hợp phần | Y7: Nội dung/nội dung thành phần | Z7: Kinh phí
C8: Kinh phí được phân bổ tại Kế hoạch số 75 | D8: Tổng cộng | E8: NSTW | F8: NSĐP | L8: Tổng cộng | M8: NSTW | N8: NSĐP | R8: Tổng cộng | S8: NSTW | T8: NSĐP | U8: Tổng cộng | V8: NSTW | W8: NSĐP | Z8: Tổng cộng | AA8: NSTW | AB8: NSĐP
A9: A | B9: B | D9: 1=2+3 | E9: 2 | F9: 3 | G9: 4 | H9: 5=6+7 | I9: 6 | J9: 7 | K9: 8 | L9: 9=10+11 | M9: 10 | N9: 11 | O9: 1 | P9: 2 | Q9: 3 | R9: 4 | S9: 5 | T9: 6 | X9: 2 | Y9: 3 | Z9: 4 | AA9: 5 | AB9: 6
A10: A | B10: CT MTQG phát triển KTXH trong vùng ĐBDTTS&MN | D10: =#REF!+D11+#REF!+#REF!+#REF!+#REF! -> #REF! | E10: =#REF!+E11+#REF!+#REF!+#REF!+#REF! -> #REF! | F10: =#REF!+F11+#REF!+#REF!+#REF!+#REF! -> #REF! | G10: =#REF!+G11+#REF!+#REF!+#REF!+#REF! -> #REF! | H10: =#REF!+H11+#REF!+#REF!+#REF!+#REF! -> #REF! | I10: =#REF!+I11+#REF!+#REF!+#REF!+#REF! -> #REF! | J10: =#REF!+J11+#REF!+#REF!+#REF!+#REF! -> #REF! | L10: =#REF!+L11+#REF!+#REF!+#REF!+#REF! -> #REF! | M10: =#REF!+M11+#REF!+#REF!+#REF!+#REF! -> #REF! | N10: =#REF!+N11+#REF!+#REF!+#REF!+#REF! -> #REF! | O10: A | P10: ='II.von 2025 phan bs theo chế cũ'!B9 -> CT MTQG phát triển KTXH trong vùng ĐBDTTS&MN
A11: II | B11: Phòng Văn hóa - Xã hội | D11: =SUM(D12:D13) -> 449154670 | E11: =SUM(E12:E13) -> 430154670 | F11: =SUM(F12:F13) -> 19000000 | G11: =SUM(G12:G13) -> 0 | H11: =SUM(H12:H13) -> 934193220 | I11: =SUM(I12:I13) -> 876193220 | J11: =SUM(J12:J13) -> 58000000 | O11: III | P11: Phòng Văn hóa - Xã hội | R11: =SUM(R12:R13) -> 934193220 | S11: =SUM(S12:S13) -> 876193220 | T11: =SUM(T12:T13) -> 58000000 | U11: =SUM(U12:U13) -> -934193220 | V11: =SUM(V12:V13) -> -876193220 | W11: =SUM(W12:W13) -> -58000000 | X11: Phòng Văn hóa - Xã hội | Z11: =SUM(Z12:Z13) -> 0 | AA11: =SUM(AA12:AA13) -> 0 | AB11: =SUM(AB12:AB13) -> 0
A12: 1 | B12: Tiểu dự án 1- Dự án 5: Đổi mới hoạt động, củng cố phát triển các trường phổ thông dân tộc nội trú, trường phổ thông dân tộc bán trú, trường phổ thông có học sinh ở bán trú và xóa mù chữ cho người dân vùng đồng bào dân tộc thiểu số | C12: 192000000 | D12: =E12+F12 -> 427654670 | E12: =177000000+ 235654670 -> 412654670 | F12: 15000000 | H12: =I12+J12 -> 934193220 | I12: =M12+S12 -> 876193220 | J12: =N12+T12 -> 58000000 | O12: 1 | P12: Hợp phần thứ hai | Q12: Nội dung 01, Nội dung thành phần số 01 | R12: =S12+T12 -> 934193220 | S12: 876193220 | T12: 58000000 | U12: =V12+W12 -> -934193220 | V12: -876193220 | W12: -58000000 | X12: Hợp phần thứ hai | Y12: Nội dung 01, Nội dung thành phần số 01 | Z12: =R12+U12 -> 0 | AA12: =S12+V12 -> 0 | AB12: =T12+W12 -> 0
A13: 3 | B13: Tiểu dự án 1- Dự án 10: Biểu dương, tôn vinh điển hình tiên tiến, phát huy vai trò của người có uy tín | C13: 16340000 | D13: =E13+F13 -> 21500000 | E13: =5160000+12340000 -> 17500000 | F13: 4000000 | H13: =I13+J13 -> 0 | I13: =M13+S13 -> 0 | J13: =N13+T13 -> 0
U14: =U15 -> 934193220 | V14: =V15 -> 876193220 | W14: =W15 -> 58000000 | X14: Phòng Xây dựng, Nông nghiệp và Môi trường | Z14: =SUM(Z15:Z15) -> 934193220 | AA14: =SUM(AA15:AA15) -> 876193220 | AB14: =SUM(AB15:AB15) -> 58000000
U15: =V15+W15 -> 934193220 | V15: 876193220 | W15: 58000000 | X15: Hợp phần thứ nhất | Y15: Nội dung 01, Nội dung thành phần số 01 | Z15: =AA15+AB15 -> 934193220 | AA15: =V15 -> 876193220 | AB15: =W15 -> 58000000

Sheet Sheet1
S1: Biểu số 03
T2: Biểu số: 02
A3: BIỂU PHÂN BỔ KINH PHÍ THỰC HIỆN CÁC CHƯƠNG TRÌNH MỤC TIÊU QUỐC GIA VỐN CHUYỂN NGUỒN NĂM 2025 SANG NĂM 2026 | AB3: ẩn
A4: (Kèm theo Tờ trình số /TTr-UBND ngày tháng 9 năm 2026 của UBND xã Chợ Rã)
R5: Đơn vị: đồng
A6: STT | B6: Chương trình MTQG giai đoạn 2021-2025 (vốn chuyển nguồn từ các năm trước chuyển sang năm 2026) | G6: Điều chỉnh, tăng, giảm | H6: Tổng cộng | I6: Trong đó | K6: Các nội dung, dự án thực hiện của chương trình giai đoạn 2021-2025 (Nội dung, nhiệm vụ dở dang chưa hoàn thành) | O6: STT | P6: Các nội dung, dự án chuyển sang thực hiện giai đoạn 2026-2030 | U6: Tổng kết quả giải ngân | X6: còn dư | AA6: Ghi chú | AB6: Nội dung cụ thể | AC6: Dự kiến thời gian hoàn thành
B7: Tên dự án, nội dung | D7: Kinh phí | I7: NSTW | J7: NSĐP | K7: Tên dự án, nội dung | L7: Kinh phí | P7: Tên đơn vị, hợp phần | Q7: Nội dung/nội dung thành phần | R7: Kinh phí
C8: Kinh phí được phân bổ tại Kế hoạch số 75 | D8: Tổng cộng | E8: NSTW | F8: NSĐP | L8: Tổng cộng | M8: NSTW | N8: NSĐP | R8: Tổng cộng | S8: NSTW | T8: NSĐP | U8: Tổng cộng | V8: NSTW | W8: NSĐP | X8: Tổng cộng | Y8: NSTW | Z8: NSĐP | AB8: =X24+U27+U28 -> 246577258
A9: A | B9: B | D9: 1=2+3 | E9: 2 | F9: 3 | G9: 4 | H9: 5=6+7 | I9: 6 | J9: 7 | K9: 8 | L9: 9=10+11 | M9: 10 | N9: 11 | O9: 1 | P9: 2 | Q9: 3 | R9: 4 | S9: 5 | T9: 6 | AA9: 7
A10: A | B10: CT MTQG phát triển KTXH trong vùng ĐBDTTS&MN | D10: =D11+D15+D21+D26+D31+D23 -> 2825510478 | E10: =E11+E15+E21+E26+E31+E23 -> 2754510478 | F10: =F11+F15+F21+F26+F31+F23 -> 71000000 | G10: =G11+G15+G21+G26+G31+G23 -> 0 | H10: =H11+H15+H21+H26+H31+H23 -> 3175510478 | I10: =I11+I15+I21+I26+I31+I23 -> 3104510478 | J10: =J11+J15+J21+J26+J31+J23 -> 71000000 | L10: =L11+L15+L21+L26+L31+L23 -> 516577258 | M10: =M11+M15+M21+M26+M31+M23 -> 516577258 | N10: =N11+N15+N21+N26+N31+N23 -> 0 | O10: A | P10: ='[1]II.von 2025 phan bs theo chế cũ'!B9 -> CT MTQG phát triển KTXH trong vùng ĐBDTTS&MN | R10: =R11+R15+R21+R26+R31+R23+R13 -> 2578933220 | S10: =S11+S15+S21+S26+S31+S23+S13 -> 2507933220 | T10: =T11+T15+T21+T26+T31+T23+T13 -> 71000000 | U10: =U11+U15+U21+U26+U31+U23+U13 -> 46577258 | V10: =V11+V15+V21+V26+V31+V23+V13 -> 46577258 | W10: =W11+W15+W21+W26+W31+W23+W13 -> 0 | X10: =X11+X15+X21+X26+X31+X23+X13 -> 2780305991 | Y10: =Y11+Y15+Y21+Y26+Y31+Y23 -> 0 | Z10: =Z11+Z15+Z21+Z26+Z31+Z23 -> 0 | AB10: =E10-S10 -> 246577258 | AC10: =L10+R10 -> 3095510478 | AD10: =AC10-D10 -> 270000000
A11: I | B11: Phòng Kinh tế (trước sắp xếp), sau sắp xếp đã thu hồi về NS xã để phân bổ cho phòng Xây dựng, Nông nghiệp và Môi trường | D11: =D12 -> 740000000 | E11: =E12 -> 740000000 | F11: =F12 -> 0 | G11: =G12 -> 0 | H11: =H12+H13 -> 740000000 | I11: =I12+I13 -> 740000000 | J11: =J12+J13 -> 0 | O11: I | P11: Trung tâm Dịch vụ tổng hợp | R11: =R12 -> 500000000 | S11: =S12 -> 500000000 | T11: =T12 -> 0 | U11: =U12 -> 0 | X11: =X12 -> 500000000
A12: 1 | B12: Nội dung số 01- Tiểu dự án 2- Dự án 3- Hỗ trợ phát triển sản xuất theo chuỗi giá trị | C12: 1427319000 | D12: =E12+F12 -> 740000000 | E12: 740000000 | H12: =I12+J12 -> 500000000 | I12: =M12+S12 -> 500000000 | J12: =N12+T12 -> 0 | O12: 1 | P12: Hợp phần thứ nhất | Q12: Nội dung 10- nội dung thành phần số 03 | R12: =S12+T12 -> 500000000 | S12: =E12-S14 -> 500000000 | T12: =F12 -> 0 | X12: =R12-U12 -> 500000000 | AB12: Dự án hỗ trợ phát triển sản xuất cộng đồng chăn nuôi dê sinh sản 500 triệu đồng; | AC12: thời gian thực hiện trong tháng 9
H13: =I13+J13 -> 240000000 | I13: =M14+S14 -> 240000000 | J13: =N14+T14 -> 0 | O13: II | P13: Phòng Xây dựng, Nông nghiệp và Môi trường | R13: =R14 -> 240000000 | S13: =S14 -> 240000000 | T13: =T14 -> 0 | U13: =U14 -> 0 | V13: =V14 -> 0 | W13: =W14 -> 0 | X13: =X14 -> 240000000
O14: 1 | P14: Hợp phần thứ nhất | Q14: Nội dung 02 - Nội dung thành phần 03 | R14: =S14+T14 -> 240000000 | S14: 240000000 | T14: =F14 -> 0 | X14: =R14-U14 -> 240000000 | AB14: Dự án chuỗi giá trị Bò sinh sản hỗ trợ hợp phần còn lại 240 triệu | AC14: thời gian thực hiện trong tháng 8
A15: II | B15: Phòng Văn hóa - Xã hội | D15: =SUM(D16:D20) -> 727155738 | E15: =SUM(E16:E20) -> 669155738 | F15: =SUM(F16:F20) -> 58000000 | G15: =SUM(G16:G20) -> -142962518 | H15: =SUM(H16:H20) -> 934193220 | I15: =SUM(I16:I20) -> 876193220 | J15: =SUM(J16:J20) -> 58000000 | O15: III | P15: Phòng Văn hóa - Xã hội | R15: =SUM(R16:R20) -> 934193220 | S15: =SUM(S16:S20) -> 876193220 | T15: =SUM(T16:T20) -> 58000000 | U15: =SUM(U16:U20) -> 0 | X15: =SUM(X16:X20) -> 934193220
A16: 1 | B16: Tiểu dự án 1- Dự án 5: Đổi mới hoạt động, củng cố phát triển các trường phổ thông dân tộc nội trú, trường phổ thông dân tộc bán trú, trường phổ thông có học sinh ở bán trú và xóa mù chữ cho người dân vùng đồng bào dân tộc thiểu số | C16: 192000000 | D16: =E16+F16 -> 427654670 | E16: =177000000+ 235654670 -> 412654670 | F16: 15000000 | H16: =I16+J16 -> 934193220 | I16: =M16+S16 -> 876193220 | J16: =N16+T16 -> 58000000 | O16: 1 | P16: Hợp phần thứ hai | Q16: Nội dung 01, Nội dung thành phần số 01 | R16: =S16+T16 -> 934193220 | S16: =SUM(E16:E20)+G17+80000000+270000000 -> 876193220 | T16: =SUM(F16:F20) -> 58000000 | X16: =R16-U16 -> 934193220 | AB16: Mua sắm đồ dùng, trang thiết bị cho Trường PTDT Nội trú Ba Bể | AC16: xong trước 15/9
A17: 2 | B17: Tiểu dự án 3 - Dự án 5: Dự án phát triển giáo dục nghề nghiệp và giải quyết việc làm cho người lao động vùng dân tộc thiểu số và miền núi: | C17: 371241400 | D17: =E17+F17 -> 200000000 | E17: 165000000 | F17: 35000000 | G17: -142962518 | H17: =I17+J17 -> 0 | I17: =M17+S17 -> 0 | J17: =N17+T17 -> 0
A18: 3 | B18: Tiểu dự án 1- Dự án 10: Biểu dương, tôn vinh điển hình tiên tiến, phát huy vai trò của người có uy tín | C18: 16340000 | D18: =E18+F18 -> 21500000 | E18: =5160000+12340000 -> 17500000 | F18: 4000000 | H18: =I18+J18 -> 0 | I18: =M18+S18 -> 0 | J18: =N18+T18 -> 0
A19: 4 | B19: Nội dung 3, Dự án 1: Hỗ trợ đất sản xuất, chuyển đổi nghề | D19: =E19+F19 -> 78000000 | E19: 74000000 | F19: 4000000 | H19: =I19+J19 -> 0 | I19: =M19+S19 -> 0 | J19: =N19+T19 -> 0
A20: III | B20: Ngân sách xã | D20: =E20+F20 -> 1068 | E20: 1068 | H20: =I20+J20 -> 0 | I20: =M20+S20 -> 0 | J20: =N20+T20 -> 0
A21: IV | B21: UB MTQT Việt Nam xã | D21: =D22 -> 69540000 | E21: =E22 -> 58540000 | F21: =F22 -> 11000000 | G21: =G22 -> 0 | H21: =H22 -> 69540000 | I21: =I22 -> 58540000 | J21: =J22 -> 11000000 | O21: IV | P21: Ủy ban MTTQVN xã | R21: =R22 -> 69540000 | S21: =S22 -> 58540000 | T21: =T22 -> 11000000 | U21: =U22 -> 0 | X21: =X22 -> 69540000 | AC21: Hội Liên hiệp Phụ nữ xã
A22: 1 | B22: Dự án 8: Thực hiện bình đẳng giới và giải quyết những vấn đề cấp thiết đối với phụ nữ và trẻ em | C22: 391085711 | D22: =E22+F22 -> 69540000 | E22: 58540000 | F22: 11000000 | H22: =I22+J22 -> 69540000 | I22: =M22+S22 -> 58540000 | J22: =N22+T22 -> 11000000 | O22: 1 | P22: Hợp phần thứ nhất | Q22: Nội dung 4, Nội dung thành phần 08 | R22: =D22 -> 69540000 | S22: =E22 -> 58540000 | T22: =F22 -> 11000000 | X22: =R22-U22 -> 69540000 | AB22: Xây dựng mô hình Tổ phụ nữ thu gom, phân loại rác | AC22: thời gian hoàn thành 30/8
A23: V | B23: Văn phòng HĐND và UBND xã | D23: =D24 -> 200000000 | E23: =E24 -> 200000000 | F23: =F24 -> 0 | G23: =G24 -> 270000000 | H23: =H24 -> 470000000 | I23: =I24 -> 470000000 | J23: =J24 -> 0 | K23: Văn phòng HĐND và UBND xã | L23: =L24 -> 470000000 | M23: =M24 -> 470000000 | N23: =N24 -> 0 | O23: V | P23: =P24 -> 0 | Q23: =Q24 -> 0 | R23: =R24 -> 0 | S23: =S24 -> 0 | T23: =T24 -> 0 | U23: =U24 -> 0 | V23: =V24 -> 0 | W23: =W24 -> 0 | X23: =X24 -> 200000000
A24: 1 | B24: Chương trình MTQG PTKT-XH vùng đồng bào dân tộc thiểu số và miềm núi vốn (SN), năm 2023, nguồn TW(Duy tu, bảo dưỡng đường liên thôn Nà Mặn- Bản Pục - Khuổi Mòn, xã Thượng Giáo) | D24: =E24+F24 -> 200000000 | E24: 200000000 | G24: 270000000 | H24: =I24+J24 -> 470000000 | I24: =M24+S24 -> 470000000 | J24: =N24+T24 -> 0 | K24: Chương trình MTQG PTKT-XH vùng đồng bào dân tộc thiểu số và miềm núi vốn (SN), năm 2023, nguồn TW(Duy tu, bảo dưỡng đường liên thôn Nà Mặn- Bản Pục - Khuổi Mòn, xã Thượng Giáo) | L24: =M24+N24 -> 470000000 | M24: =E24+G24 -> 470000000 | O24: 1 | R24: =S24+T24 -> 0 | X24: =E24-U24 -> 200000000 | AC24: xem dự kiến phát sinh bao nhiêu
A26: VI | B26: Trung tâm Dịch vụ tổng hợp | D26: =SUM(D27:D30) -> 1056814740 | E26: =SUM(E27:E30) -> 1056814740 | F26: =SUM(F27:F30) -> 0 | G26: =SUM(G27:G30) -> -127037482 | H26: =SUM(H27:H30) -> 929777258 | I26: =SUM(I27:I30) -> 929777258 | J26: =SUM(J27:J30) -> 0 | K26: Trung tâm Dịch vụ tổng hợp | L26: =SUM(L27:L30) -> 46577258 | M26: =SUM(M27:M30) -> 46577258 | N26: =SUM(N27:N30) -> 0 | O26: V | P26: Phòng Văn hóa - xã hội | R26: =SUM(R27:R30) -> 803200000 | S26: =SUM(S27:S30) -> 803200000 | T26: =SUM(T27:T30) -> 0 | U26: =V26+W26 -> 46577258 | V26: =SUM(V27:V30) -> 46577258 | X26: =SUM(X27:X30) -> 804572771
A27: 1 | B27: Duy tu bảo dưỡng đường Bản Váng - Nà Cáy | D27: =E27+F27 -> 33369467 | E27: =33369467 -> 33369467 | G27: -740141 | H27: =I27+J27 -> 32629326 | I27: =M27+S27 -> 32629326 | K27: Duy tu bảo dưỡng đường Bản Váng - Nà Cáy | L27: =M27+N27 -> 32629326 | M27: =33369467-740141 -> 32629326 | O27: 1 | P27: Hợp phần thứ hai | Q27: Nội dung 6, Nội dung thành phần 01 | R27: =S27+T27 -> 0 | S27: =E27-M27+G27 -> 0 | U27: =V27+W27 -> 32629326 | V27: 32629326 | X27: =D27-U27 -> 740141 | Y27: =E27-V27 -> 740141 | Z27: =F27-W27 -> 0 | AC27: =S27+E30+S28 -> 1008864711
A28: 2 | B28: Duy tu bảo dưỡng Cốc Pái Tiền phong xã Chợ Rã | D28: =E28+F28 -> 14580562 | E28: =14580562 -> 14580562 | G28: -632630 | H28: =I28+J28 -> 13947932 | I28: =M28+S28 -> 13947932 | J28: =N28+T28 -> 0 | K28: Duy tu bảo dưỡng Cốc Pái Tiền phong xã Chợ Rã | L28: =M28+N28 -> 13947932 | M28: =14580562-632630 -> 13947932 | O28: 2 | R28: =S28+T28 -> 0 | S28: =E28-M28+G28 -> 0 | U28: =V28+W28 -> 13947932 | V28: 13947932 | X28: =D28-U28 -> 632630 | Y28: =E28-V28 -> 632630 | Z28: =F28-W28 -> 0
A29: 4 | B29: Kinh phí dư 02 công trình sửa chữa (Duy tu bảo dưỡng đường Bản Váng - Nà Cáy) | D29: =E29+F29 -> 0 | O29: 1 | R29: =S29+T30 -> 803200000 | S29: =E30+G30-80000000 -> 803200000 | X29: =R29-U30 -> 803200000
A30: 3 | B30: Nội dung số 01- Dự án 4: Đầu tư cơ sở hạ tầng thiết yếu vùng đồng bào DTTS&MN; ưu tiên đối với các xã đặc biệt khó khăn, thôn đặc biệt khó khăn. | C30: 472384029 | D30: =E30+F30 -> 1008864711 | E30: 1008864711 | G30: -125664711 | H30: =I30+J30 -> 883200000 | I30: =E30+G30 -> 883200000 | AB30: giải quyết tình trạng thiếu đất ở, nhà ở | AC30: xong trước 20/9 | AD30: qđ phân cho trung tâm tổng hợp nhưng hương chưa nhập
A31: VII | B31: Ủy ban MTTQVN xã | D31: =D32 -> 32000000 | E31: =E32 -> 30000000 | F31: =F32 -> 2000000 | G31: =G32 -> 0 | H31: =H32 -> 32000000 | I31: =I32 -> 30000000 | J31: =J32 -> 2000000 | O31: VI | P31: Ủy ban MTTQVN xã | R31: =R32 -> 32000000 | S31: =S32 -> 30000000 | T31: =T32 -> 2000000 | U31: =U32 -> 0 | X31: =X32 -> 32000000
A32: 1 | B32: Tiểu dự án 3, Dự án 10: Kiểm tra, giám sát, đánh giá, đào tạo, tập huấn tổ chức thực hiện Chương trình | D32: =E32+F32 -> 32000000 | E32: 30000000 | F32: 2000000 | H32: =I32+J32 -> 32000000 | I32: =M32+S32 -> 30000000 | J32: =N32+T32 -> 2000000 | O32: 1 | P32: Hợp phần thứ nhất | Q32: Nội dung 1, Nội dung thành phần 08 | R32: 32000000 | S32: 30000000 | T32: 2000000 | X32: =R32-U32 -> 32000000 | AC32: xong trước 30/10
A33: B | B33: Chương trình mục tiêu quốc gia giảm nghèo bền vững | D33: =D34+D39+D36 -> 731992530 | E33: =E34+E39+E36 -> 714992530 | F33: =F34+F39+F36 -> 17000000 | G33: =G34+G39+G36 -> 0 | H33: =H34+H39+H36 -> 731992530 | I33: =I34+I39+I36 -> 714992530 | J33: =J34+J39+J36 -> 17000000 | O33: B | P33: Chương trình mục tiêu quốc gia giảm nghèo bền vững | R33: =R34+R39+R36 -> 731992530 | S33: =S34+S39+S36 -> 714992530 | T33: =T34+T39+T36 -> 17000000 | U33: =U34+U39+U36 -> 0 | V33: =V34+V39+V36 -> 0 | W33: =W34+W39+W36 -> 0 | X33: =X34+X39+X36 -> 731992530
A34: I | B34: Phòng Kinh tế (trước sắp xếp), sau sắp xếp đã thu hồi về NS xã để phân bổ cho phòng Xây dựng, Nông nghiệp và Môi trường | D34: =D35 -> 620089800 | E34: =E35 -> 603089800 | F34: =F35 -> 17000000 | H34: =I34+J34 -> 620089800 | I34: =M34+S34 -> 603089800 | J34: =N34+T34 -> 17000000 | O34: I | P34: Trung tâm dịch vụ tổng hợp | R34: =R35 -> 620089800 | S34: =S35 -> 603089800 | T34: =T35 -> 17000000 | U34: =U35 -> 0 | V34: =V35 -> 0 | W34: =W35 -> 0 | X34: =X35 -> 620089800
A35: 1 | B35: Dự án 2: Đa dạng hóa sinh kế, phát triển mô hình giảm nghèo | D35: =E35+F35 -> 620089800 | E35: 603089800 | F35: 17000000 | H35: =I35+J35 -> 620089800 | I35: =M35+S35 -> 603089800 | J35: =N35+T35 -> 17000000 | O35: 1 | P35: Hợp phần thứ nhất | Q35: Nội dung 10 - Nội dung thành phần 03 | R35: =S35+T35 -> 620089800 | S35: =E35 -> 603089800 | T35: =F35 -> 17000000 | X35: =R35-U35 -> 620089800 | AB35: Xây dựng và nhân rộng các mô hình sinh kế đa dạng, mô hình hỗ trợ phát triển sản xuất hỗ trợ giảm nghèo, phù hợp với điều kiện sinh thái, văn hóa và trình độ phát triển của từng địa phương, đặc biệt tại các xã, thôn đặc biệt khó khăn, vùng đồng bào DTTS&MN, an toàn khu, biên giới và hải đảo; khuyến khích ứng dụng khoa học - công nghệ, kinh tế số, kinh tế xanh và khởi nghiệp đổi mới sáng tạo; bảo đảm kết nối thị trường; thí điểm cơ chế tín dụng vi mô, bảo hiểm nông nghiệp thích ứng với biến đổi khí hậu và duy trì bền vững. | AC35: thời gian thực hiện trong tháng 9
A36: II | B36: Phòng Kinh tế (trước sắp xếp), sau sắp xếp đã thu hồi về NS xã để phân bổ cho phòng Xây dựng, Nông nghiệp và Môi trường | D36: =D37+D38 -> 54958730 | E36: =E37+E38 -> 54958730 | F36: =F37+F38 -> 0 | G36: =G37+G38 -> 0 | H36: =H37+H38 -> 54958730 | I36: =I37+I38 -> 54958730 | J36: =J37+J38 -> 0 | O36: II | P36: Phòng Xây dựng, Nông nghiệp và Môi trường | R36: =R37+R38 -> 54958730 | S36: =S37+S38 -> 54958730 | T36: =T37+T38 -> 0 | U36: =U37+U38 -> 0 | V36: =V37+V38 -> 0 | W36: =W37+W38 -> 0 | X36: =X37+X38 -> 54958730
A37: 1 | B37: Tiểu dự án 1 Dự án 7: Nâng cao năng lực thực hiện Chương trình | D37: =E37+F37 -> 27316380 | E37: 27316380 | H37: =I37+J37 -> 27316380 | I37: =M37+S37 -> 27316380 | J37: =N37+T37 -> 0 | O37: 1 | P37: Hợp phần thứ nhất | Q37: Nội dung 02 - Nội dung thành phần 10 | R37: =S37+T37 -> 27316380 | S37: =E37 -> 27316380 | T37: =F37 -> 0 | X37: =R37-U37 -> 27316380 | AB37: Xây dựng Chương trình, tài liệu và tổ chức bồi dưỡng, tập huấn, nâng cao năng lực cho đội ngũ cán bộ làm công tác xây dựng NTM, giảm nghèo bền vững, phát triển kinh tế - xã hội vùng đồng bào DTTS&MN, đặc biệt là cán bộ cơ sở; tập huấn, nâng cao nhận thức, năng lực, đổi mới tư duy của cộng đồng và người dân về xây dựng NTM, giảm nghèo bền vững, phát triển kinh tế - xã hội vùng đồng bào DTTS&MN; tập trung, ưu tiên cho các đối tượng thuộc xã, thôn đặc biệt khó khăn, vùng đồng bào DTTS&MN; | AC37: thời gian xong trước 15/9
A38: 2 | B38: Tiểu dự án 2 Dự án 7: Giám sát, đánh giá | D38: =E38+F38 -> 27642350 | E38: 27642350 | H38: =I38+J38 -> 27642350 | I38: =M38+S38 -> 27642350 | J38: =N38+T38 -> 0 | O38: 2 | Q38: Nội dung 01 - Nội dung thành phần 10 | R38: =S38+T38 -> 27642350 | S38: =E38 -> 27642350 | T38: =F38 -> 0 | X38: =R38-U38 -> 27642350 | AB38: Nâng cao chất lượng và hiệu quả công tác kiểm tra, giám sát, đánh giá kết quả thực hiện Chương trình ở các cấp; xây dựng hệ thống cơ sở dữ liệu quản lý Chương trình. Rà soát, đánh giá hộ nghèo, hộ cận nghèo hằng năm | AC38: thời gian xong trước 15/10
A39: III | B39: Trung tâm dịch vụ tổng hợp | D39: =D40 -> 56944000 | E39: =E40 -> 56944000 | F39: =F40 -> 0 | G39: =G40 -> 0 | H39: =H40 -> 56944000 | I39: =I40 -> 56944000 | J39: =J40 -> 0 | O39: III | P39: Trung tâm dịch vụ tổng hợp | R39: =S39+T39 -> 56944000 | S39: =S40 -> 56944000 | T39: =T40 -> 0 | U39: =U40 -> 0 | X39: =X40 -> 56944000
A40: 1 | B40: Tiểu dự án 2 Dự án 6: Truyền thông về giảm nghèo đa chiều | D40: =E40+F40 -> 56944000 | E40: 56944000 | H40: =I40+J40 -> 56944000 | I40: =M40+S40 -> 56944000 | J40: =N40+T40 -> 0 | O40: 1 | P40: Hợp phần thứ nhất | Q40: Nội dung 03 - Nội dung thành phần 10 | R40: =S40+T40 -> 56944000 | S40: =E40 -> 56944000 | T40: =F40 -> 0 | X40: =S40-U40 -> 56944000 | AB40: Đổi mới và nâng cao chất lượng, hiệu quả công tác truyền thông về xây dựng NTM, giảm nghèo bền vững và phát triển kinh tế - xã hội vùng đồng bào DTTS&MN | AC40: thời gian xong trước 15/8
A41: C | B41: Chương trình mục tiêu quốc gia xây dựng nông thôn mới | D41: =D42 -> 220000000 | E41: =E42 -> 210000000 | F41: =F42 -> 10000000 | G41: =G42 -> 0 | H41: =H42 -> 220000000 | I41: =I42 -> 210000000 | J41: =J42 -> 10000000 | O41: C | P41: Chương trình mục tiêu quốc gia xây dựng nông thôn mới | Q41: =Q42 -> 0 | R41: =R42 -> 220000000 | S41: =S42 -> 210000000 | T41: =T42 -> 10000000 | U41: =U42 -> 0 | X41: =X42 -> 220000000
...

Sheet III 2025 phan theo co che moi N
S1: Biểu số 03
T2: Biểu số: II
A3: BIỂU PHÂN BỔ KINH PHÍ THỰC HIỆN CÁC CHƯƠNG TRÌNH MỤC TIÊU QUỐC GIA VỐN CHUYỂN NGUỒN NĂM 2025 SANG NĂM 2026 | AB3: ẩn
A4: (Kèm theo Quyết định số 912/QĐ-UBND ngày 11 tháng 8 năm 2026 của UBND xã Chợ Rã)
R5: Đơn vị: đồng
A6: STT | B6: Chương trình MTQG giai đoạn 2021-2025 (vốn chuyển nguồn từ các năm trước chuyển sang năm 2026) | G6: Điều chỉnh, tăng, giảm | H6: Tổng cộng | I6: Trong đó | K6: Các nội dung, dự án thực hiện của chương trình giai đoạn 2021-2025 (Nội dung, nhiệm vụ dở dang chưa hoàn thành) | O6: STT | P6: Các nội dung, dự án chuyển sang thực hiện giai đoạn 2026-2030 | U6: Tổng kết quả giải ngân | X6: còn dư | AA6: Ghi chú | AB6: Nội dung cụ thể | AC6: Dự kiến thời gian hoàn thành
B7: Tên dự án, nội dung | D7: Kinh phí | I7: NSTW | J7: NSĐP | K7: Tên dự án, nội dung | L7: Kinh phí | P7: Tên đơn vị, hợp phần | Q7: Nội dung/nội dung thành phần | R7: Kinh phí
C8: Kinh phí được phân bổ tại Kế hoạch số 75 | D8: Tổng cộng | E8: NSTW | F8: NSĐP | L8: Tổng cộng | M8: NSTW | N8: NSĐP | R8: Tổng cộng | S8: NSTW | T8: NSĐP | U8: Tổng cộng | V8: NSTW | W8: NSĐP | X8: Tổng cộng | Y8: NSTW | Z8: NSĐP | AB8: =X24+U27+U28 -> 246577258
A9: A | B9: B | D9: 1=2+3 | E9: 2 | F9: 3 | G9: 4 | H9: 5=6+7 | I9: 6 | J9: 7 | K9: 8 | L9: 9=10+11 | M9: 10 | N9: 11 | O9: 1 | P9: 2 | Q9: 3 | R9: 4 | S9: 5 | T9: 6 | AA9: 7
A10: A | B10: CT MTQG phát triển KTXH trong vùng ĐBDTTS&MN | D10: =D11+D15+D21+D26+D31+D23 -> 2825510478 | E10: =E11+E15+E21+E26+E31+E23 -> 2754510478 | F10: =F11+F15+F21+F26+F31+F23 -> 71000000 | G10: =G11+G15+G21+G26+G31+G23 -> 0 | H10: =H11+H15+H21+H26+H31+H23 -> 3175510478 | I10: =I11+I15+I21+I26+I31+I23 -> 3104510478 | J10: =J11+J15+J21+J26+J31+J23 -> 71000000 | L10: =L11+L15+L21+L26+L31+L23 -> 516577258 | M10: =M11+M15+M21+M26+M31+M23 -> 516577258 | N10: =N11+N15+N21+N26+N31+N23 -> 0 | O10: A | P10: ='II.von 2025 phan bs theo chế cũ'!B9 -> CT MTQG phát triển KTXH trong vùng ĐBDTTS&MN | R10: =R11+R15+R21+R26+R31+R23+R13 -> 2578933220 | S10: =S11+S15+S21+S26+S31+S23+S13 -> 2507933220 | T10: =T11+T15+T21+T26+T31+T23+T13 -> 71000000 | U10: =U11+U15+U21+U26+U31+U23+U13 -> 46577258 | V10: =V11+V15+V21+V26+V31+V23+V13 -> 46577258 | W10: =W11+W15+W21+W26+W31+W23+W13 -> 0 | X10: =X11+X15+X21+X26+X31+X23+X13 -> 2780305991 | Y10: =Y11+Y15+Y21+Y26+Y31+Y23 -> 0 | Z10: =Z11+Z15+Z21+Z26+Z31+Z23 -> 0 | AB10: =E10-S10 -> 246577258 | AC10: =L10+R10 -> 3095510478 | AD10: =AC10-D10 -> 270000000
A11: I | B11: Phòng Kinh tế (trước sắp xếp), sau sắp xếp đã thu hồi về NS xã để phân bổ cho phòng Xây dựng, Nông nghiệp và Môi trường | D11: =D12 -> 740000000 | E11: =E12 -> 740000000 | F11: =F12 -> 0 | G11: =G12 -> 0 | H11: =H12+H13 -> 740000000 | I11: =I12+I13 -> 740000000 | J11: =J12+J13 -> 0 | O11: I | P11: Trung tâm Dịch vụ tổng hợp | R11: =R12 -> 500000000 | S11: =S12 -> 500000000 | T11: =T12 -> 0 | U11: =U12 -> 0 | X11: =X12 -> 500000000
A12: 1 | B12: Nội dung số 01- Tiểu dự án 2- Dự án 3- Hỗ trợ phát triển sản xuất theo chuỗi giá trị | C12: 1427319000 | D12: =E12+F12 -> 740000000 | E12: 740000000 | H12: =I12+J12 -> 500000000 | I12: =M12+S12 -> 500000000 | J12: =N12+T12 -> 0 | O12: 1 | P12: Hợp phần thứ nhất | Q12: Nội dung 10- nội dung thành phần số 03 | R12: =S12+T12 -> 500000000 | S12: =E12-S14 -> 500000000 | T12: =F12 -> 0 | X12: =R12-U12 -> 500000000 | AB12: Dự án hỗ trợ phát triển sản xuất cộng đồng chăn nuôi dê sinh sản 500 triệu đồng; | AC12: thời gian thực hiện trong tháng 9
H13: =I13+J13 -> 240000000 | I13: =M14+S14 -> 240000000 | J13: =N14+T14 -> 0 | O13: II | P13: Phòng Xây dựng, Nông nghiệp và Môi trường | R13: =R14 -> 240000000 | S13: =S14 -> 240000000 | T13: =T14 -> 0 | U13: =U14 -> 0 | V13: =V14 -> 0 | W13: =W14 -> 0 | X13: =X14 -> 240000000
O14: 1 | P14: Hợp phần thứ nhất | Q14: Nội dung 02 - Nội dung thành phần 03 | R14: =S14+T14 -> 240000000 | S14: 240000000 | T14: =F14 -> 0 | X14: =R14-U14 -> 240000000 | AB14: Dự án chuỗi giá trị Bò sinh sản hỗ trợ hợp phần còn lại 240 triệu | AC14: thời gian thực hiện trong tháng 8
A15: II | B15: Phòng Văn hóa - Xã hội | D15: =SUM(D16:D20) -> 727155738 | E15: =SUM(E16:E20) -> 669155738 | F15: =SUM(F16:F20) -> 58000000 | G15: =SUM(G16:G20) -> -142962518 | H15: =SUM(H16:H20) -> 934193220 | I15: =SUM(I16:I20) -> 876193220 | J15: =SUM(J16:J20) -> 58000000 | O15: III | P15: Phòng Văn hóa - Xã hội | R15: =SUM(R16:R20) -> 934193220 | S15: =SUM(S16:S20) -> 876193220 | T15: =SUM(T16:T20) -> 58000000 | U15: =SUM(U16:U20) -> 0 | X15: =SUM(X16:X20) -> 934193220
A16: 1 | B16: Tiểu dự án 1- Dự án 5: Đổi mới hoạt động, củng cố phát triển các trường phổ thông dân tộc nội trú, trường phổ thông dân tộc bán trú, trường phổ thông có học sinh ở bán trú và xóa mù chữ cho người dân vùng đồng bào dân tộc thiểu số | C16: 192000000 | D16: =E16+F16 -> 427654670 | E16: =177000000+ 235654670 -> 412654670 | F16: 15000000 | H16: =I16+J16 -> 934193220 | I16: =M16+S16 -> 876193220 | J16: =N16+T16 -> 58000000 | O16: 1 | P16: Hợp phần thứ hai | Q16: Nội dung 01, Nội dung thành phần số 01 | R16: =S16+T16 -> 934193220 | S16: =SUM(E16:E20)+G17+80000000+270000000 -> 876193220 | T16: =SUM(F16:F20) -> 58000000 | X16: =R16-U16 -> 934193220 | AB16: Mua sắm đồ dùng, trang thiết bị cho Trường PTDT Nội trú Ba Bể | AC16: xong trước 15/9
A17: 2 | B17: Tiểu dự án 3 - Dự án 5: Dự án phát triển giáo dục nghề nghiệp và giải quyết việc làm cho người lao động vùng dân tộc thiểu số và miền núi: | C17: 371241400 | D17: =E17+F17 -> 200000000 | E17: 165000000 | F17: 35000000 | G17: -142962518 | H17: =I17+J17 -> 0 | I17: =M17+S17 -> 0 | J17: =N17+T17 -> 0
A18: 3 | B18: Tiểu dự án 1- Dự án 10: Biểu dương, tôn vinh điển hình tiên tiến, phát huy vai trò của người có uy tín | C18: 16340000 | D18: =E18+F18 -> 21500000 | E18: =5160000+12340000 -> 17500000 | F18: 4000000 | H18: =I18+J18 -> 0 | I18: =M18+S18 -> 0 | J18: =N18+T18 -> 0
A19: 4 | B19: Nội dung 3, Dự án 1: Hỗ trợ đất sản xuất, chuyển đổi nghề | D19: =E19+F19 -> 78000000 | E19: 74000000 | F19: 4000000 | H19: =I19+J19 -> 0 | I19: =M19+S19 -> 0 | J19: =N19+T19 -> 0
A20: III | B20: Ngân sách xã | D20: =E20+F20 -> 1068 | E20: 1068 | H20: =I20+J20 -> 0 | I20: =M20+S20 -> 0 | J20: =N20+T20 -> 0
A21: IV | B21: UB MTQT Việt Nam xã | D21: =D22 -> 69540000 | E21: =E22 -> 58540000 | F21: =F22 -> 11000000 | G21: =G22 -> 0 | H21: =H22 -> 69540000 | I21: =I22 -> 58540000 | J21: =J22 -> 11000000 | O21: IV | P21: Ủy ban MTTQVN xã | R21: =R22 -> 69540000 | S21: =S22 -> 58540000 | T21: =T22 -> 11000000 | U21: =U22 -> 0 | X21: =X22 -> 69540000 | AC21: Hội Liên hiệp Phụ nữ xã
A22: 1 | B22: Dự án 8: Thực hiện bình đẳng giới và giải quyết những vấn đề cấp thiết đối với phụ nữ và trẻ em | C22: 391085711 | D22: =E22+F22 -> 69540000 | E22: 58540000 | F22: 11000000 | H22: =I22+J22 -> 69540000 | I22: =M22+S22 -> 58540000 | J22: =N22+T22 -> 11000000 | O22: 1 | P22: Hợp phần thứ nhất | Q22: Nội dung 4, Nội dung thành phần 08 | R22: =D22 -> 69540000 | S22: =E22 -> 58540000 | T22: =F22 -> 11000000 | X22: =R22-U22 -> 69540000 | AB22: Xây dựng mô hình Tổ phụ nữ thu gom, phân loại rác | AC22: thời gian hoàn thành 30/8
A23: V | B23: Văn phòng HĐND và UBND xã | D23: =D24 -> 200000000 | E23: =E24 -> 200000000 | F23: =F24 -> 0 | G23: =G24 -> 270000000 | H23: =H24 -> 470000000 | I23: =I24 -> 470000000 | J23: =J24 -> 0 | K23: Văn phòng HĐND và UBND xã | L23: =L24 -> 470000000 | M23: =M24 -> 470000000 | N23: =N24 -> 0 | O23: V | P23: =P24 -> 0 | Q23: =Q24 -> 0 | R23: =R24 -> 0 | S23: =S24 -> 0 | T23: =T24 -> 0 | U23: =U24 -> 0 | V23: =V24 -> 0 | W23: =W24 -> 0 | X23: =X24 -> 200000000
A24: 1 | B24: Chương trình MTQG PTKT-XH vùng đồng bào dân tộc thiểu số và miềm núi vốn (SN), năm 2023, nguồn TW(Duy tu, bảo dưỡng đường liên thôn Nà Mặn- Bản Pục - Khuổi Mòn, xã Thượng Giáo) | D24: =E24+F24 -> 200000000 | E24: 200000000 | G24: 270000000 | H24: =I24+J24 -> 470000000 | I24: =M24+S24 -> 470000000 | J24: =N24+T24 -> 0 | K24: Chương trình MTQG PTKT-XH vùng đồng bào dân tộc thiểu số và miềm núi vốn (SN), năm 2023, nguồn TW(Duy tu, bảo dưỡng đường liên thôn Nà Mặn- Bản Pục - Khuổi Mòn, xã Thượng Giáo) | L24: =M24+N24 -> 470000000 | M24: =E24+G24 -> 470000000 | O24: 1 | R24: =S24+T24 -> 0 | X24: =E24-U24 -> 200000000 | AC24: xem dự kiến phát sinh bao nhiêu
A26: VI | B26: Trung tâm Dịch vụ tổng hợp | D26: =SUM(D27:D30) -> 1056814740 | E26: =SUM(E27:E30) -> 1056814740 | F26: =SUM(F27:F30) -> 0 | G26: =SUM(G27:G30) -> -127037482 | H26: =SUM(H27:H30) -> 929777258 | I26: =SUM(I27:I30) -> 929777258 | J26: =SUM(J27:J30) -> 0 | K26: Trung tâm Dịch vụ tổng hợp | L26: =SUM(L27:L30) -> 46577258 | M26: =SUM(M27:M30) -> 46577258 | N26: =SUM(N27:N30) -> 0 | O26: V | P26: Phòng Văn hóa - xã hội | R26: =SUM(R27:R30) -> 803200000 | S26: =SUM(S27:S30) -> 803200000 | T26: =SUM(T27:T30) -> 0 | U26: =V26+W26 -> 46577258 | V26: =SUM(V27:V30) -> 46577258 | X26: =SUM(X27:X30) -> 804572771
A27: 1 | B27: Duy tu bảo dưỡng đường Bản Váng - Nà Cáy | D27: =E27+F27 -> 33369467 | E27: =33369467 -> 33369467 | G27: -740141 | H27: =I27+J27 -> 32629326 | I27: =M27+S27 -> 32629326 | K27: Duy tu bảo dưỡng đường Bản Váng - Nà Cáy | L27: =M27+N27 -> 32629326 | M27: =33369467-740141 -> 32629326 | O27: 1 | P27: Hợp phần thứ hai | Q27: Nội dung 6, Nội dung thành phần 01 | R27: =S27+T27 -> 0 | S27: =E27-M27+G27 -> 0 | U27: =V27+W27 -> 32629326 | V27: 32629326 | X27: =D27-U27 -> 740141 | Y27: =E27-V27 -> 740141 | Z27: =F27-W27 -> 0 | AC27: =S27+E30+S28 -> 1008864711
A28: 2 | B28: Duy tu bảo dưỡng Cốc Pái Tiền phong xã Chợ Rã | D28: =E28+F28 -> 14580562 | E28: =14580562 -> 14580562 | G28: -632630 | H28: =I28+J28 -> 13947932 | I28: =M28+S28 -> 13947932 | J28: =N28+T28 -> 0 | K28: Duy tu bảo dưỡng Cốc Pái Tiền phong xã Chợ Rã | L28: =M28+N28 -> 13947932 | M28: =14580562-632630 -> 13947932 | O28: 2 | R28: =S28+T28 -> 0 | S28: =E28-M28+G28 -> 0 | U28: =V28+W28 -> 13947932 | V28: 13947932 | X28: =D28-U28 -> 632630 | Y28: =E28-V28 -> 632630 | Z28: =F28-W28 -> 0
A29: 4 | B29: Kinh phí dư 02 công trình sửa chữa (Duy tu bảo dưỡng đường Bản Váng - Nà Cáy) | D29: =E29+F29 -> 0 | O29: 1 | R29: =S29+T30 -> 803200000 | S29: =E30+G30-80000000 -> 803200000 | X29: =R29-U30 -> 803200000
A30: 3 | B30: Nội dung số 01- Dự án 4: Đầu tư cơ sở hạ tầng thiết yếu vùng đồng bào DTTS&MN; ưu tiên đối với các xã đặc biệt khó khăn, thôn đặc biệt khó khăn. | C30: 472384029 | D30: =E30+F30 -> 1008864711 | E30: 1008864711 | G30: -125664711 | H30: =I30+J30 -> 883200000 | I30: =E30+G30 -> 883200000 | AB30: giải quyết tình trạng thiếu đất ở, nhà ở | AC30: xong trước 20/9 | AD30: qđ phân cho trung tâm tổng hợp nhưng hương chưa nhập
A31: VII | B31: Ủy ban MTTQVN xã | D31: =D32 -> 32000000 | E31: =E32 -> 30000000 | F31: =F32 -> 2000000 | G31: =G32 -> 0 | H31: =H32 -> 32000000 | I31: =I32 -> 30000000 | J31: =J32 -> 2000000 | O31: VI | P31: Ủy ban MTTQVN xã | R31: =R32 -> 32000000 | S31: =S32 -> 30000000 | T31: =T32 -> 2000000 | U31: =U32 -> 0 | X31: =X32 -> 32000000
A32: 1 | B32: Tiểu dự án 3, Dự án 10: Kiểm tra, giám sát, đánh giá, đào tạo, tập huấn tổ chức thực hiện Chương trình | D32: =E32+F32 -> 32000000 | E32: 30000000 | F32: 2000000 | H32: =I32+J32 -> 32000000 | I32: =M32+S32 -> 30000000 | J32: =N32+T32 -> 2000000 | O32: 1 | P32: Hợp phần thứ nhất | Q32: Nội dung 1, Nội dung thành phần 08 | R32: 32000000 | S32: 30000000 | T32: 2000000 | X32: =R32-U32 -> 32000000 | AC32: xong trước 30/10
A33: B | B33: Chương trình mục tiêu quốc gia giảm nghèo bền vững | D33: =D34+D39+D36 -> 731992530 | E33: =E34+E39+E36 -> 714992530 | F33: =F34+F39+F36 -> 17000000 | G33: =G34+G39+G36 -> 0 | H33: =H34+H39+H36 -> 731992530 | I33: =I34+I39+I36 -> 714992530 | J33: =J34+J39+J36 -> 17000000 | O33: B | P33: Chương trình mục tiêu quốc gia giảm nghèo bền vững | R33: =R34+R39+R36 -> 731992530 | S33: =S34+S39+S36 -> 714992530 | T33: =T34+T39+T36 -> 17000000 | U33: =U34+U39+U36 -> 0 | V33: =V34+V39+V36 -> 0 | W33: =W34+W39+W36 -> 0 | X33: =X34+X39+X36 -> 731992530
A34: I | B34: Phòng Kinh tế (trước sắp xếp), sau sắp xếp đã thu hồi về NS xã để phân bổ cho phòng Xây dựng, Nông nghiệp và Môi trường | D34: =D35 -> 620089800 | E34: =E35 -> 603089800 | F34: =F35 -> 17000000 | H34: =I34+J34 -> 620089800 | I34: =M34+S34 -> 603089800 | J34: =N34+T34 -> 17000000 | O34: I | P34: Trung tâm dịch vụ tổng hợp | R34: =R35 -> 620089800 | S34: =S35 -> 603089800 | T34: =T35 -> 17000000 | U34: =U35 -> 0 | V34: =V35 -> 0 | W34: =W35 -> 0 | X34: =X35 -> 620089800
A35: 1 | B35: Dự án 2: Đa dạng hóa sinh kế, phát triển mô hình giảm nghèo | D35: =E35+F35 -> 620089800 | E35: 603089800 | F35: 17000000 | H35: =I35+J35 -> 620089800 | I35: =M35+S35 -> 603089800 | J35: =N35+T35 -> 17000000 | O35: 1 | P35: Hợp phần thứ nhất | Q35: Nội dung 10 - Nội dung thành phần 03 | R35: =S35+T35 -> 620089800 | S35: =E35 -> 603089800 | T35: =F35 -> 17000000 | X35: =R35-U35 -> 620089800 | AB35: Xây dựng và nhân rộng các mô hình sinh kế đa dạng, mô hình hỗ trợ phát triển sản xuất hỗ trợ giảm nghèo, phù hợp với điều kiện sinh thái, văn hóa và trình độ phát triển của từng địa phương, đặc biệt tại các xã, thôn đặc biệt khó khăn, vùng đồng bào DTTS&MN, an toàn khu, biên giới và hải đảo; khuyến khích ứng dụng khoa học - công nghệ, kinh tế số, kinh tế xanh và khởi nghiệp đổi mới sáng tạo; bảo đảm kết nối thị trường; thí điểm cơ chế tín dụng vi mô, bảo hiểm nông nghiệp thích ứng với biến đổi khí hậu và duy trì bền vững. | AC35: thời gian thực hiện trong tháng 9
A36: II | B36: Phòng Kinh tế (trước sắp xếp), sau sắp xếp đã thu hồi về NS xã để phân bổ cho phòng Xây dựng, Nông nghiệp và Môi trường | D36: =D37+D38 -> 54958730 | E36: =E37+E38 -> 54958730 | F36: =F37+F38 -> 0 | G36: =G37+G38 -> 0 | H36: =H37+H38 -> 54958730 | I36: =I37+I38 -> 54958730 | J36: =J37+J38 -> 0 | O36: II | P36: Phòng Xây dựng, Nông nghiệp và Môi trường | R36: =R37+R38 -> 54958730 | S36: =S37+S38 -> 54958730 | T36: =T37+T38 -> 0 | U36: =U37+U38 -> 0 | V36: =V37+V38 -> 0 | W36: =W37+W38 -> 0 | X36: =X37+X38 -> 54958730
A37: 1 | B37: Tiểu dự án 1 Dự án 7: Nâng cao năng lực thực hiện Chương trình | D37: =E37+F37 -> 27316380 | E37: 27316380 | H37: =I37+J37 -> 27316380 | I37: =M37+S37 -> 27316380 | J37: =N37+T37 -> 0 | O37: 1 | P37: Hợp phần thứ nhất | Q37: Nội dung 02 - Nội dung thành phần 10 | R37: =S37+T37 -> 27316380 | S37: =E37 -> 27316380 | T37: =F37 -> 0 | X37: =R37-U37 -> 27316380 | AB37: Xây dựng Chương trình, tài liệu và tổ chức bồi dưỡng, tập huấn, nâng cao năng lực cho đội ngũ cán bộ làm công tác xây dựng NTM, giảm nghèo bền vững, phát triển kinh tế - xã hội vùng đồng bào DTTS&MN, đặc biệt là cán bộ cơ sở; tập huấn, nâng cao nhận thức, năng lực, đổi mới tư duy của cộng đồng và người dân về xây dựng NTM, giảm nghèo bền vững, phát triển kinh tế - xã hội vùng đồng bào DTTS&MN; tập trung, ưu tiên cho các đối tượng thuộc xã, thôn đặc biệt khó khăn, vùng đồng bào DTTS&MN; | AC37: thời gian xong trước 15/9
A38: 2 | B38: Tiểu dự án 2 Dự án 7: Giám sát, đánh giá | D38: =E38+F38 -> 27642350 | E38: 27642350 | H38: =I38+J38 -> 27642350 | I38: =M38+S38 -> 27642350 | J38: =N38+T38 -> 0 | O38: 2 | Q38: Nội dung 01 - Nội dung thành phần 10 | R38: =S38+T38 -> 27642350 | S38: =E38 -> 27642350 | T38: =F38 -> 0 | X38: =R38-U38 -> 27642350 | AB38: Nâng cao chất lượng và hiệu quả công tác kiểm tra, giám sát, đánh giá kết quả thực hiện Chương trình ở các cấp; xây dựng hệ thống cơ sở dữ liệu quản lý Chương trình. Rà soát, đánh giá hộ nghèo, hộ cận nghèo hằng năm | AC38: thời gian xong trước 15/10
A39: III | B39: Trung tâm dịch vụ tổng hợp | D39: =D40 -> 56944000 | E39: =E40 -> 56944000 | F39: =F40 -> 0 | G39: =G40 -> 0 | H39: =H40 -> 56944000 | I39: =I40 -> 56944000 | J39: =J40 -> 0 | O39: III | P39: Trung tâm dịch vụ tổng hợp | R39: =S39+T39 -> 56944000 | S39: =S40 -> 56944000 | T39: =T40 -> 0 | U39: =U40 -> 0 | X39: =X40 -> 56944000
A40: 1 | B40: Tiểu dự án 2 Dự án 6: Truyền thông về giảm nghèo đa chiều | D40: =E40+F40 -> 56944000 | E40: 56944000 | H40: =I40+J40 -> 56944000 | I40: =M40+S40 -> 56944000 | J40: =N40+T40 -> 0 | O40: 1 | P40: Hợp phần thứ nhất | Q40: Nội dung 03 - Nội dung thành phần 10 | R40: =S40+T40 -> 56944000 | S40: =E40 -> 56944000 | T40: =F40 -> 0 | X40: =S40-U40 -> 56944000 | AB40: Đổi mới và nâng cao chất lượng, hiệu quả công tác truyền thông về xây dựng NTM, giảm nghèo bền vững và phát triển kinh tế - xã hội vùng đồng bào DTTS&MN | AC40: thời gian xong trước 15/8
A41: C | B41: Chương trình mục tiêu quốc gia xây dựng nông thôn mới | D41: =D42 -> 220000000 | E41: =E42 -> 210000000 | F41: =F42 -> 10000000 | G41: =G42 -> 0 | H41: =H42 -> 220000000 | I41: =I42 -> 210000000 | J41: =J42 -> 10000000 | O41: C | P41: Chương trình mục tiêu quốc gia xây dựng nông thôn mới | Q41: =Q42 -> 0 | R41: =R42 -> 220000000 | S41: =S42 -> 210000000 | T41: =T42 -> 10000000 | U41: =U42 -> 0 | X41: =X42 -> 220000000
...

Sheet von 2025 giai ngan
S1: Biểu số 03
A2: BIỂU ĐIỀU CHỈNH NỘI DUNG, PHÂN BỔ KINH PHÍ THỰC HIỆN CÁC CHƯƠNG TRÌNH MỤC TIÊU QUỐC GIA VỐN CHUYỂN NGUỒN NĂM 2025 SANG NĂM 2026 | AB2: ẩn
R4: Đơn vị: đồng
A5: STT | B5: Chương trình MTQG giai đoạn 2021-2025 (vốn chuyển nguồn từ các năm trước chuyển sang năm 2026) | G5: Điều chỉnh, tăng, giảm | H5: Tổng cộng | I5: Trong đó | K5: Các nội dung, dự án thực hiện của chương trình giai đoạn 2021-2025 (Nội dung, nhiệm vụ dở dang chưa hoàn thành) | O5: STT | P5: Các nội dung, dự án chuyển sang thực hiện giai đoạn 2026-2030 | U5: Tổng kết quả giải ngân | X5: còn dư | AA5: Ghi chú | AB5: Nội dung cụ thể | AC5: Dự kiến thời gian hoàn thành
B6: Tên dự án, nội dung | D6: Kinh phí | I6: NSTW | J6: NSĐP | K6: Tên dự án, nội dung | L6: Kinh phí | P6: Tên đơn vị, hợp phần | Q6: Nội dung/nội dung thành phần | R6: Kinh phí
C7: Kinh phí được phân bổ tại Kế hoạch số 75 | D7: Tổng cộng | E7: NSTW | F7: NSĐP | L7: Tổng cộng | M7: NSTW | N7: NSĐP | R7: Tổng cộng | S7: NSTW | T7: NSĐP | U7: Tổng cộng | V7: NSTW | W7: NSĐP | X7: Tổng cộng | Y7: NSTW | Z7: NSĐP | AB7: =X23+U26+U27 -> 246577258
A8: A | B8: B | D8: 1=2+3 | E8: 2 | F8: 3 | G8: 4 | H8: 5=6+7 | I8: 6 | J8: 7 | K8: 8 | L8: 9=10+11 | M8: 10 | N8: 11 | O8: 12 | P8: 13 | Q8: 14 | R8: 15=16+17 | S8: 16 | T8: 17 | AA8: 18
A9: A | B9: CT MTQG phát triển KTXH trong vùng ĐBDTTS&MN | D9: =D10+D14+D20+D25+D30+D22 -> 2825510478 | E9: =E10+E14+E20+E25+E30+E22 -> 2754510478 | F9: =F10+F14+F20+F25+F30+F22 -> 71000000 | G9: =G10+G14+G20+G25+G30+G22 -> 0 | H9: =H10+H14+H20+H25+H30+H22 -> 2825510478 | I9: =I10+I14+I20+I25+I30+I22 -> 2754510478 | J9: =J10+J14+J20+J25+J30+J22 -> 71000000 | L9: =L10+L14+L20+L25+L30+L22 -> 516577258 | M9: =M10+M14+M20+M25+M30+M22 -> 516577258 | N9: =N10+N14+N20+N25+N30+N22 -> 0 | O9: A | P9: B | Q9: C | R9: =R10+R14+R20+R25+R30+R22+R12 -> 2308933220 | S9: =S10+S14+S20+S25+S30+S22+S12 -> 2237933220 | T9: =T10+T14+T20+T25+T30+T22+T12 -> 71000000 | U9: =U10+U14+U20+U25+U30+U22+U12 -> 46577258 | V9: =V10+V14+V20+V25+V30+V22+V12 -> 46577258 | W9: =W10+W14+W20+W25+W30+W22+W12 -> 0 | X9: =X10+X14+X20+X25+X30+X22+X12 -> 2510305991 | Y9: =Y10+Y14+Y20+Y25+Y30+Y22 -> 0 | Z9: =Z10+Z14+Z20+Z25+Z30+Z22 -> 0 | AB9: =E9-S9 -> 516577258 | AC9: =L9+R9 -> 2825510478 | AD9: =AC9-D9 -> 0
A10: I | B10: Phòng Kinh tế (trước sắp xếp), sau sắp xếp đã thu hồi về NS xã để phân bổ cho phòng Xây dựng, Nông nghiệp và Môi trường | D10: =D11 -> 740000000 | E10: =E11 -> 740000000 | F10: =F11 -> 0 | G10: =G11 -> 0 | H10: =H11+H12 -> 740000000 | I10: =I11+I12 -> 740000000 | J10: =J11+J12 -> 0 | O10: I | P10: Trung tâm Dịch vụ tổng hợp | R10: =R11 -> 500000000 | S10: =S11 -> 500000000 | T10: =T11 -> 0 | U10: =U11 -> 0 | X10: =X11 -> 500000000 | AC10: Theo đề xuất của phòng Xây dựng, NN&MT tại Báo cáo số 66 ngày 13/7/2026, đề xuất chuyển sang Trung tâm Dịch vụ tổng hợp tham mưu thực hiện
A11: 1 | B11: Nội dung số 01- Tiểu dự án 2- Dự án 3- Hỗ trợ phát triển sản xuất theo chuỗi giá trị | C11: 1427319000 | D11: =E11+F11 -> 740000000 | E11: 740000000 | H11: =I11+J11 -> 500000000 | I11: =M11+S11 -> 500000000 | J11: =N11+T11 -> 0 | O11: 1 | P11: Hợp phần thứ nhất | Q11: Nội dung 10, nội dung thành phần số 03 | R11: =S11+T11 -> 500000000 | S11: =E11-S13 -> 500000000 | T11: =F11 -> 0 | X11: =R11-U11 -> 500000000 | AB11: Dự án hỗ trợ phát triển sản xuất cộng đồng chăn nuôi dê sinh sản 500 triệu đồng; | AC11: thời gian thực hiện trong tháng 9
H12: =I12+J12 -> 240000000 | I12: =M13+S13 -> 240000000 | J12: =N13+T13 -> 0 | O12: II | P12: Phòng Xây dựng, Nông nghiệp và Môi trường | R12: =R13 -> 240000000 | S12: =S13 -> 240000000 | T12: =T13 -> 0 | U12: =U13 -> 0 | V12: =V13 -> 0 | W12: =W13 -> 0 | X12: =X13 -> 240000000
O13: 1 | P13: Hợp phần thứ nhất | Q13: Nội dung 02 - Nội dung thành phần 03 | R13: =S13+T13 -> 240000000 | S13: 240000000 | T13: =F13 -> 0 | X13: =R13-U13 -> 240000000 | AB13: Dự án chuỗi giá trị Bò sinh sản hỗ trợ hợp phần còn lại 240 triệu | AC13: thời gian thực hiện trong tháng 8
A14: II | B14: Phòng Văn hóa - Xã hội | D14: =SUM(D15:D19) -> 727155738 | E14: =SUM(E15:E19) -> 669155738 | F14: =SUM(F15:F19) -> 58000000 | G14: =SUM(G15:G19) -> -142962518 | H14: =SUM(H15:H19) -> 584193220 | I14: =SUM(I15:I19) -> 526193220 | J14: =SUM(J15:J19) -> 58000000 | O14: III | P14: Phòng Văn hóa - Xã hội | R14: =SUM(R15:R19) -> 584193220 | S14: =SUM(S15:S19) -> 526193220 | T14: =SUM(T15:T19) -> 58000000 | U14: =SUM(U15:U19) -> 0 | X14: =SUM(X15:X19) -> 584193220
A15: 1 | B15: Tiểu dự án 1- Dự án 5: Đổi mới hoạt động, củng cố phát triển các trường phổ thông dân tộc nội trú, trường phổ thông dân tộc bán trú, trường phổ thông có học sinh ở bán trú và xóa mù chữ cho người dân vùng đồng bào dân tộc thiểu số | C15: 192000000 | D15: =E15+F15 -> 427654670 | E15: =177000000+ 235654670 -> 412654670 | F15: 15000000 | H15: =I15+J15 -> 584193220 | I15: =M15+S15 -> 526193220 | J15: =N15+T15 -> 58000000 | O15: 1 | P15: Hợp phần thứ hai | Q15: Nội dung 01, Nội dung thành phần số 01 | R15: =S15+T15 -> 584193220 | S15: =SUM(E15:E19)+G16 -> 526193220 | T15: =SUM(F15:F19) -> 58000000 | X15: =R15-U15 -> 584193220 | AB15: Mua sắm đồ dùng, trang thiết bị cho Trường PTDT Nội trú Ba Bể | AC15: xong trước 15/9
A16: 2 | B16: Tiểu dự án 3 - Dự án 5: Dự án phát triển giáo dục nghề nghiệp và giải quyết việc làm cho người lao động vùng dân tộc thiểu số và miền núi: | C16: 371241400 | D16: =E16+F16 -> 200000000 | E16: 165000000 | F16: 35000000 | G16: -142962518 | H16: =I16+J16 -> 0 | I16: =M16+S16 -> 0 | J16: =N16+T16 -> 0
A17: 3 | B17: Tiểu dự án 1- Dự án 10: Biểu dương, tôn vinh điển hình tiên tiến, phát huy vai trò của người có uy tín | C17: 16340000 | D17: =E17+F17 -> 21500000 | E17: =5160000+12340000 -> 17500000 | F17: 4000000 | H17: =I17+J17 -> 0 | I17: =M17+S17 -> 0 | J17: =N17+T17 -> 0
A18: 4 | B18: Nội dung 3, Dự án 1: Hỗ trợ đất sản xuất, chuyển đổi nghề | D18: =E18+F18 -> 78000000 | E18: 74000000 | F18: 4000000 | H18: =I18+J18 -> 0 | I18: =M18+S18 -> 0 | J18: =N18+T18 -> 0
A19: III | B19: Ngân sách xã | D19: =E19+F19 -> 1068 | E19: 1068 | H19: =I19+J19 -> 0 | I19: =M19+S19 -> 0 | J19: =N19+T19 -> 0
A20: IV | B20: UB MTQT Việt Nam xã | D20: =D21 -> 69540000 | E20: =E21 -> 58540000 | F20: =F21 -> 11000000 | G20: =G21 -> 0 | H20: =H21 -> 69540000 | I20: =I21 -> 58540000 | J20: =J21 -> 11000000 | O20: IV | P20: Ủy ban MTTQVN xã | R20: =R21 -> 69540000 | S20: =S21 -> 58540000 | T20: =T21 -> 11000000 | U20: =U21 -> 0 | X20: =X21 -> 69540000 | AC20: Hội Liên hiệp Phụ nữ xã
A21: 1 | B21: Dự án 8: Thực hiện bình đẳng giới và giải quyết những vấn đề cấp thiết đối với phụ nữ và trẻ em | C21: 391085711 | D21: =E21+F21 -> 69540000 | E21: 58540000 | F21: 11000000 | H21: =I21+J21 -> 69540000 | I21: =M21+S21 -> 58540000 | J21: =N21+T21 -> 11000000 | O21: 1 | P21: Hợp phần thứ nhất | Q21: Nội dung 4, Nội dung thành phần 08 | R21: =D21 -> 69540000 | S21: =E21 -> 58540000 | T21: =F21 -> 11000000 | X21: =R21-U21 -> 69540000 | AB21: Xây dựng mô hình Tổ phụ nữ thu gom, phân loại rác | AC21: thời gian hoàn thành 30/8
A22: V | B22: Văn phòng HĐND và UBND xã | D22: =D23 -> 200000000 | E22: =E23 -> 200000000 | F22: =F23 -> 0 | G22: =G23 -> 270000000 | H22: =H23 -> 470000000 | I22: =I23 -> 470000000 | J22: =J23 -> 0 | K22: Văn phòng HĐND và UBND xã | L22: =L23 -> 470000000 | M22: =M23 -> 470000000 | N22: =N23 -> 0 | O22: V | P22: =P23 -> 0 | Q22: =Q23 -> 0 | R22: =R23 -> 0 | S22: =S23 -> 0 | T22: =T23 -> 0 | U22: =U23 -> 0 | V22: =V23 -> 0 | W22: =W23 -> 0 | X22: =X23 -> 200000000
A23: 1 | B23: Chương trình MTQG PTKT-XH vùng đồng bào dân tộc thiểu số và miềm núi vốn (SN), năm 2023, nguồn TW(Duy tu, bảo dưỡng đường liên thôn Nà Mặn- Bản Pục - Khuổi Mòn, xã Thượng Giáo) | D23: =E23+F23 -> 200000000 | E23: 200000000 | G23: 270000000 | H23: =I23+J23 -> 470000000 | I23: =M23+S23 -> 470000000 | J23: =N23+T23 -> 0 | K23: Chương trình MTQG PTKT-XH vùng đồng bào dân tộc thiểu số và miềm núi vốn (SN), năm 2023, nguồn TW(Duy tu, bảo dưỡng đường liên thôn Nà Mặn- Bản Pục - Khuổi Mòn, xã Thượng Giáo) | L23: =M23+N23 -> 470000000 | M23: =E23+G23 -> 470000000 | O23: 1 | R23: =S23+T23 -> 0 | X23: =E23-U23 -> 200000000 | AC23: xem dự kiến phát sinh bao nhiêu
A25: VI | B25: Trung tâm Dịch vụ tổng hợp | D25: =SUM(D26:D29) -> 1056814740 | E25: =SUM(E26:E29) -> 1056814740 | F25: =SUM(F26:F29) -> 0 | G25: =SUM(G26:G29) -> -127037482 | H25: =SUM(H26:H29) -> 929777258 | I25: =SUM(I26:I29) -> 929777258 | J25: =SUM(J26:J29) -> 0 | K25: Trung tâm Dịch vụ tổng hợp | L25: =SUM(L26:L29) -> 46577258 | M25: =SUM(M26:M29) -> 46577258 | N25: =SUM(N26:N29) -> 0 | O25: VI | P25: Phòng Văn hóa - xã hội | R25: =SUM(R26:R29) -> 883200000 | S25: =SUM(S26:S29) -> 883200000 | T25: =SUM(T26:T29) -> 0 | U25: =V25+W25 -> 46577258 | V25: =SUM(V26:V29) -> 46577258 | X25: =SUM(X26:X29) -> 884572771
A26: 1 | B26: Duy tu bảo dưỡng đường Bản Váng - Nà Cáy | D26: =E26+F26 -> 33369467 | E26: =33369467 -> 33369467 | G26: -740141 | H26: =I26+J26 -> 32629326 | I26: =M26+S26 -> 32629326 | K26: Duy tu bảo dưỡng đường Bản Váng - Nà Cáy | L26: =M26+N26 -> 32629326 | M26: =33369467-740141 -> 32629326 | O26: 1 | P26: Hợp phần thứ hai | Q26: Nội dung 6, Nội dung thành phần 01 | R26: =S26+T26 -> 0 | S26: =E26-M26+G26 -> 0 | U26: =V26+W26 -> 32629326 | V26: 32629326 | X26: =D26-U26 -> 740141 | Y26: =E26-V26 -> 740141 | Z26: =F26-W26 -> 0 | AC26: =S26+E29+S27 -> 1008864711
A27: 2 | B27: Duy tu bảo dưỡng Cốc Pái Tiền phong xã Chợ Rã | D27: =E27+F27 -> 14580562 | E27: =14580562 -> 14580562 | G27: -632630 | H27: =I27+J27 -> 13947932 | I27: =M27+S27 -> 13947932 | J27: =N27+T27 -> 0 | K27: Duy tu bảo dưỡng Cốc Pái Tiền phong xã Chợ Rã | L27: =M27+N27 -> 13947932 | M27: =14580562-632630 -> 13947932 | O27: 2 | R27: =S27+T27 -> 0 | S27: =E27-M27+G27 -> 0 | U27: =V27+W27 -> 13947932 | V27: 13947932 | X27: =D27-U27 -> 632630 | Y27: =E27-V27 -> 632630 | Z27: =F27-W27 -> 0
A28: 4 | B28: Kinh phí dư 02 công trình sửa chữa (Duy tu bảo dưỡng đường Bản Váng - Nà Cáy) | D28: =E28+F28 -> 0 | O28: 3 | R28: =S28+T29 -> 883200000 | S28: =E29+G29 -> 883200000 | X28: =R28-U29 -> 883200000
A29: 3 | B29: Nội dung số 01- Dự án 4: Đầu tư cơ sở hạ tầng thiết yếu vùng đồng bào DTTS&MN; ưu tiên đối với các xã đặc biệt khó khăn, thôn đặc biệt khó khăn. | C29: 472384029 | D29: =E29+F29 -> 1008864711 | E29: 1008864711 | G29: -125664711 | H29: =I29+J29 -> 883200000 | I29: =E29+G29 -> 883200000 | AB29: giải quyết tình trạng thiếu đất ở, nhà ở | AC29: xong trước 20/9 | AD29: qđ phân cho trung tâm tổng hợp nhưng hương chưa nhập
A30: VII | B30: Ủy ban MTTQVN xã | D30: =D31 -> 32000000 | E30: =E31 -> 30000000 | F30: =F31 -> 2000000 | G30: =G31 -> 0 | H30: =H31 -> 32000000 | I30: =I31 -> 30000000 | J30: =J31 -> 2000000 | O30: VII | P30: Ủy ban MTTQVN xã | R30: =R31 -> 32000000 | S30: =S31 -> 30000000 | T30: =T31 -> 2000000 | U30: =U31 -> 0 | X30: =X31 -> 32000000
A31: 1 | B31: Tiểu dự án 3, Dự án 10: Kiểm tra, giám sát, đánh giá, đào tạo, tập huấn tổ chức thực hiện Chương trình | D31: =E31+F31 -> 32000000 | E31: 30000000 | F31: 2000000 | H31: =I31+J31 -> 32000000 | I31: =M31+S31 -> 30000000 | J31: =N31+T31 -> 2000000 | O31: 1 | P31: Hợp phần thứ nhất | Q31: Nội dung 1, Nội dung thành phần 08 | R31: 32000000 | S31: 30000000 | T31: 2000000 | X31: =R31-U31 -> 32000000 | AC31: xong trước 30/10
A32: B | B32: Chương trình mục tiêu quốc gia giảm nghèo bền vững | D32: =D33+D38+D35 -> 731992530 | E32: =E33+E38+E35 -> 714992530 | F32: =F33+F38+F35 -> 17000000 | G32: =G33+G38+G35 -> 0 | H32: =H33+H38+H35 -> 731992530 | I32: =I33+I38+I35 -> 714992530 | J32: =J33+J38+J35 -> 17000000 | O32: B | R32: =R33+R38+R35 -> 731992530 | S32: =S33+S38+S35 -> 714992530 | T32: =T33+T38+T35 -> 17000000 | U32: =U33+U38+U35 -> 0 | V32: =V33+V38+V35 -> 0 | W32: =W33+W38+W35 -> 0 | X32: =X33+X38+X35 -> 731992530
A33: I | B33: Phòng Kinh tế (trước sắp xếp), sau sắp xếp đã thu hồi về NS xã để phân bổ cho phòng Xây dựng, Nông nghiệp và Môi trường | D33: =D34 -> 620089800 | E33: =E34 -> 603089800 | F33: =F34 -> 17000000 | H33: =I33+J33 -> 620089800 | I33: =M33+S33 -> 603089800 | J33: =N33+T33 -> 17000000 | O33: I | P33: Trung tâm dịch vụ tổng hợp | R33: =R34 -> 620089800 | S33: =S34 -> 603089800 | T33: =T34 -> 17000000 | U33: =U34 -> 0 | V33: =V34 -> 0 | W33: =W34 -> 0 | X33: =X34 -> 620089800
A34: 1 | B34: Dự án 2: Đa dạng hóa sinh kế, phát triển mô hình giảm nghèo | D34: =E34+F34 -> 620089800 | E34: 603089800 | F34: 17000000 | H34: =I34+J34 -> 620089800 | I34: =M34+S34 -> 603089800 | J34: =N34+T34 -> 17000000 | O34: 1 | P34: Hợp phần thứ nhất | Q34: Nội dung 10 - Nội dung thành phần 03 | R34: =S34+T34 -> 620089800 | S34: =E34 -> 603089800 | T34: =F34 -> 17000000 | X34: =R34-U34 -> 620089800 | AB34: Xây dựng và nhân rộng các mô hình sinh kế đa dạng, mô hình hỗ trợ phát triển sản xuất hỗ trợ giảm nghèo, phù hợp với điều kiện sinh thái, văn hóa và trình độ phát triển của từng địa phương, đặc biệt tại các xã, thôn đặc biệt khó khăn, vùng đồng bào DTTS&MN, an toàn khu, biên giới và hải đảo; khuyến khích ứng dụng khoa học - công nghệ, kinh tế số, kinh tế xanh và khởi nghiệp đổi mới sáng tạo; bảo đảm kết nối thị trường; thí điểm cơ chế tín dụng vi mô, bảo hiểm nông nghiệp thích ứng với biến đổi khí hậu và duy trì bền vững. | AC34: thời gian thực hiện trong tháng 9
A35: II | B35: Phòng Kinh tế (trước sắp xếp), sau sắp xếp đã thu hồi về NS xã để phân bổ cho phòng Xây dựng, Nông nghiệp và Môi trường | D35: =D36+D37 -> 54958730 | E35: =E36+E37 -> 54958730 | F35: =F36+F37 -> 0 | G35: =G36+G37 -> 0 | H35: =H36+H37 -> 54958730 | I35: =I36+I37 -> 54958730 | J35: =J36+J37 -> 0 | O35: II | P35: Phòng Xây dựng, Nông nghiệp và Môi trường | R35: =R36+R37 -> 54958730 | S35: =S36+S37 -> 54958730 | T35: =T36+T37 -> 0 | U35: =U36+U37 -> 0 | V35: =V36+V37 -> 0 | W35: =W36+W37 -> 0 | X35: =X36+X37 -> 54958730
A36: 1 | B36: Tiểu dự án 1 Dự án 7: Nâng cao năng lực thực hiện Chương trình | D36: =E36+F36 -> 27316380 | E36: 27316380 | H36: =I36+J36 -> 27316380 | I36: =M36+S36 -> 27316380 | J36: =N36+T36 -> 0 | O36: 1 | P36: Hợp phần thứ nhất | Q36: Nội dung 02 - Nội dung thành phần 10 | R36: =S36+T36 -> 27316380 | S36: =E36 -> 27316380 | T36: =F36 -> 0 | X36: =R36-U36 -> 27316380 | AB36: Xây dựng Chương trình, tài liệu và tổ chức bồi dưỡng, tập huấn, nâng cao năng lực cho đội ngũ cán bộ làm công tác xây dựng NTM, giảm nghèo bền vững, phát triển kinh tế - xã hội vùng đồng bào DTTS&MN, đặc biệt là cán bộ cơ sở; tập huấn, nâng cao nhận thức, năng lực, đổi mới tư duy của cộng đồng và người dân về xây dựng NTM, giảm nghèo bền vững, phát triển kinh tế - xã hội vùng đồng bào DTTS&MN; tập trung, ưu tiên cho các đối tượng thuộc xã, thôn đặc biệt khó khăn, vùng đồng bào DTTS&MN; | AC36: thời gian xong trước 15/9
A37: 2 | B37: Tiểu dự án 2 Dự án 7: Giám sát, đánh giá | D37: =E37+F37 -> 27642350 | E37: 27642350 | H37: =I37+J37 -> 27642350 | I37: =M37+S37 -> 27642350 | J37: =N37+T37 -> 0 | O37: 2 | Q37: Nội dung 01 - Nội dung thành phần 10 | R37: =S37+T37 -> 27642350 | S37: =E37 -> 27642350 | T37: =F37 -> 0 | X37: =R37-U37 -> 27642350 | AB37: Nâng cao chất lượng và hiệu quả công tác kiểm tra, giám sát, đánh giá kết quả thực hiện Chương trình ở các cấp; xây dựng hệ thống cơ sở dữ liệu quản lý Chương trình. Rà soát, đánh giá hộ nghèo, hộ cận nghèo hằng năm | AC37: thời gian xong trước 15/10
A38: III | B38: Trung tâm dịch vụ tổng hợp | D38: =D39 -> 56944000 | E38: =E39 -> 56944000 | F38: =F39 -> 0 | G38: =G39 -> 0 | H38: =H39 -> 56944000 | I38: =I39 -> 56944000 | J38: =J39 -> 0 | O38: III | P38: Trung tâm dịch vụ tổng hợp | R38: =S38+T38 -> 56944000 | S38: =S39 -> 56944000 | T38: =T39 -> 0 | U38: =U39 -> 0 | X38: =X39 -> 56944000
A39: 1 | B39: Tiểu dự án 2 Dự án 6: Truyền thông về giảm nghèo đa chiều | D39: =E39+F39 -> 56944000 | E39: 56944000 | H39: =I39+J39 -> 56944000 | I39: =M39+S39 -> 56944000 | J39: =N39+T39 -> 0 | O39: 1 | P39: Hợp phần thứ nhất | Q39: Nội dung 03 - Nội dung thành phần 10 | R39: =S39+T39 -> 56944000 | S39: =E39 -> 56944000 | T39: =F39 -> 0 | X39: =S39-U39 -> 56944000 | AB39: Đổi mới và nâng cao chất lượng, hiệu quả công tác truyền thông về xây dựng NTM, giảm nghèo bền vững và phát triển kinh tế - xã hội vùng đồng bào DTTS&MN | AC39: thời gian xong trước 15/8
A40: C | B40: Chương trình mục tiêu quốc gia xây dựng nông thôn mới | D40: =D41 -> 220000000 | E40: =E41 -> 210000000 | F40: =F41 -> 10000000 | G40: =G41 -> 0 | H40: =H41 -> 220000000 | I40: =I41 -> 210000000 | J40: =J41 -> 10000000 | O40: C | Q40: =Q41 -> 0 | R40: =R41 -> 220000000 | S40: =S41 -> 210000000 | T40: =T41 -> 10000000 | U40: =U41 -> 0 | X40: =X41 -> 220000000
A41: I | B41: Phòng Văn hóa - Xã hội | D41: =D42 -> 220000000 | E41: =E42 -> 210000000 | F41: =F42 -> 10000000 | G41: =G42 -> 0 | H41: =H42 -> 220000000 | I41: =I42 -> 210000000 | J41: =J42 -> 10000000 | O41: I | P41: Phòng Văn hóa - Xã hội | R41: =R42 -> 220000000 | S41: =S42 -> 210000000 | T41: =T42 -> 10000000 | X41: =R41-U41 -> 220000000
A42: 1 | B42: Nội dung 09: Tăng cường hỗ trợ cho hệ thống thông tin và truyền thông cơ sở thuộc thành phần số 02 | D42: =E42+F42 -> 220000000 | E42: 210000000 | F42: 10000000 | H42: =I42+J42 -> 220000000 | I42: =M42+S42 -> 210000000 | J42: =N42+T42 -> 10000000 | O42: 1 | P42: Hợp phần thứ nhất | Q42: Nội dung 9 - Nội dung thành phần số 2 | R42: =S42+T42 -> 220000000 | S42: =E42 -> 210000000 | T42: =F42 -> 10000000 | X42: =R42-U42 -> 220000000 | AB42: (bao gồm thiết lập mới đài truyền thanh xã; nâng cấp hoạt động của đài truyền thanh xã; mở rộng cụm thu phát thanh ứng dụng công nghệ thông tin - viễn thông đối với các thôn). | AC42: thời gian xong trước 20/9
...
